BEGIN:VCALENDAR
VERSION:2.0
PRODID:-//Susan Wirgler - ECPv6.15.18//NONSGML v1.0//EN
CALSCALE:GREGORIAN
METHOD:PUBLISH
X-WR-CALNAME:Susan Wirgler
X-ORIGINAL-URL:https://www.susanwirgler.com
X-WR-CALDESC:Events for Susan Wirgler
REFRESH-INTERVAL;VALUE=DURATION:PT1H
X-Robots-Tag:noindex
X-PUBLISHED-TTL:PT1H
BEGIN:VTIMEZONE
TZID:America/Los_Angeles
BEGIN:DAYLIGHT
TZOFFSETFROM:-0800
TZOFFSETTO:-0700
TZNAME:PDT
DTSTART:20250309T100000
END:DAYLIGHT
BEGIN:STANDARD
TZOFFSETFROM:-0700
TZOFFSETTO:-0800
TZNAME:PST
DTSTART:20251102T090000
END:STANDARD
BEGIN:DAYLIGHT
TZOFFSETFROM:-0800
TZOFFSETTO:-0700
TZNAME:PDT
DTSTART:20260308T100000
END:DAYLIGHT
BEGIN:STANDARD
TZOFFSETFROM:-0700
TZOFFSETTO:-0800
TZNAME:PST
DTSTART:20261101T090000
END:STANDARD
BEGIN:DAYLIGHT
TZOFFSETFROM:-0800
TZOFFSETTO:-0700
TZNAME:PDT
DTSTART:20270314T100000
END:DAYLIGHT
BEGIN:STANDARD
TZOFFSETFROM:-0700
TZOFFSETTO:-0800
TZNAME:PST
DTSTART:20271107T090000
END:STANDARD
END:VTIMEZONE
BEGIN:VEVENT
DTSTART;VALUE=DATE:20260425
DTEND;VALUE=DATE:20260426
DTSTAMP:20260425T054641
CREATED:20260203T150638Z
LAST-MODIFIED:20260422T135147Z
UID:4917-1777075200-1777161599@www.susanwirgler.com
SUMMARY:Wirgler Workshop  "RANCH\,TRAIL\,COW
DESCRIPTION:This is a wonderful introduction to ranch riding and cow-working. We will build our confidence and our horses confidence in a beautiful ranch setting. We will work on our horsemanship skills\, and body control\, while riding trail\, and big fields\, river crossings and cows. We start the day with ground work to build the focus and connection with our horses\, moving into the saddle for a warm up ride to the river- while working on softness\, and body control- then continue the day with trail obstacles- and manners- rating speed- separating from the herd- to ride an individual ride while in a group setting- then finish with some practical ranch work with cows- sorting and moving and riding with the herd.\n\nFull day- starts at 9am\, bring a bag lunch\, and be ready to have a wonderful experience! \nAll day fee is $225.00 \nSpace is limited!- please email me to hold your space. swirgler@sbcglobal.net \n  \n\n\n                \n                        \n                            Request Workshop Atttendance\n                            After submitting this form\, you will be contacted by Susan Wirgler to confirm your spot and collect payment. \n                        \n                        CommentsThis field is for validation purposes and should be left unchanged.Name of the Event you are interested in:Please confirm the date of the clinic that you want to attend?*\n                            \n                            MM slash DD slash YYYY\n                        \n                        Name*\n                            \n                            \n                                                    \n                                                    First\n                                                \n                            \n                            \n                                                    \n                                                    Last\n                                                \n                            \n                        Email*\n                            \n                        Phone*\n          \n            \n            \n            \n            \n            \n            \n            \n            \n            \n            \n            \n            \n            \n        \n                        Δ
URL:https://www.susanwirgler.com/event/wwirgler-workshop-ranchtrailcow/
END:VEVENT
BEGIN:VEVENT
DTSTART;TZID=America/Los_Angeles:20260509T090000
DTEND;TZID=America/Los_Angeles:20260509T150000
DTSTAMP:20260425T054641
CREATED:20251130T161714Z
LAST-MODIFIED:20251130T161714Z
UID:4891-1778317200-1778338800@www.susanwirgler.com
SUMMARY:Wirgler Workshop "CONFIDENCE THROUGH CONTROL''
DESCRIPTION:This workshop is designed to build confidence in you and your horse! We will be working on supporting our horses and becoming a better team. There are many ways to help our horses know that we are good leaders- and we will study some of those techniques. We will be working on the ground first to establish focus and a syncing of minds.  This is an in depth study of Groundwork- and what we are trying to accomplish through setting up your horses body and feet to get to their mind.  A wonderful opportunity to go deeper into what makes your partnership possible.   We will then apply those to our riding\, and strive for perfect harmony and control of all 4 feet. \nStart time 9am-3:30pm \n\nFull day workshop fee $225.00\n\nSpace is limited – Email me early to reserve a spot!  SWIRGLER@SBCGLOBAL.NET \n\n                \n                        \n                            Request Workshop Atttendance\n                            After submitting this form\, you will be contacted by Susan Wirgler to confirm your spot and collect payment. \n                        \n                        CommentsThis field is for validation purposes and should be left unchanged.Name of the Event you are interested in:Please confirm the date of the clinic that you want to attend?*\n                            \n                            MM slash DD slash YYYY\n                        \n                        Name*\n                            \n                            \n                                                    \n                                                    First\n                                                \n                            \n                            \n                                                    \n                                                    Last\n                                                \n                            \n                        Email*\n                            \n                        Phone*\n          \n            \n            \n            \n            \n            \n            \n            \n            \n            \n            \n            \n            \n            \n        \n                        Δ
URL:https://www.susanwirgler.com/event/wirgler-workshop-confidence-through-control-15/
LOCATION:4971 GRANDVIEW CT   SHINGLE SPRINGS  CA\, 4971 GRANDVIEW CT SHINGLE SPRINGS CA\, United States
END:VEVENT
BEGIN:VEVENT
DTSTART;VALUE=DATE:20260523
DTEND;VALUE=DATE:20260524
DTSTAMP:20260425T054641
CREATED:20260203T150337Z
LAST-MODIFIED:20260203T150337Z
UID:4915-1779494400-1779580799@www.susanwirgler.com
SUMMARY:Wirgler Workshop "RANCH\,TRAIL\,COW"
DESCRIPTION:This is a wonderful introduction to ranch riding and cow-working. We will build our confidence and our horses confidence in a beautiful ranch setting. We will work on our horsemanship skills\, and body control\, while riding trail\, and big fields\, river crossings and cows. We start the day with ground work to build the focus and connection with our horses\, moving into the saddle for a warm up ride to the river- while working on softness\, and body control- then continue the day with trail obstacles- and manners- rating speed- separating from the herd- to ride an individual ride while in a group setting- then finish with some practical ranch work with cows- sorting and moving and riding with the herd.\n\nFull day- starts at 9am\, bring a bag lunch\, and be ready to have a wonderful experience! \nAll day fee is $225.00 \nSpace is limited!- please email me to hold your space. swirgler@sbcglobal.net \n  \n\n                \n                        \n                            Request Workshop Atttendance\n                            After submitting this form\, you will be contacted by Susan Wirgler to confirm your spot and collect payment. \n                        \n                        PhoneThis field is for validation purposes and should be left unchanged.Name of the Event you are interested in:Please confirm the date of the clinic that you want to attend?*\n                            \n                            MM slash DD slash YYYY\n                        \n                        Name*\n                            \n                            \n                                                    \n                                                    First\n                                                \n                            \n                            \n                                                    \n                                                    Last\n                                                \n                            \n                        Email*\n                            \n                        Phone*\n          \n            \n            \n            \n            \n            \n            \n            \n            \n            \n            \n            \n            \n            \n        \n                        Δ
URL:https://www.susanwirgler.com/event/wirgler-workshop-ranchtrailcow-40/
LOCATION:11375 Green Road   Wilton\, Ca\, 11375 Green Road   Wilton\, Ca 
END:VEVENT
BEGIN:VEVENT
DTSTART;TZID=America/Los_Angeles:20260620T090000
DTEND;TZID=America/Los_Angeles:20260620T150000
DTSTAMP:20260425T054641
CREATED:20260422T134706Z
LAST-MODIFIED:20260422T135415Z
UID:4926-1781946000-1781967600@www.susanwirgler.com
SUMMARY:Wirgler Workshop  "RANCH\,TRAIL\,COW
DESCRIPTION:This is a wonderful introduction to ranch riding and cow-working. We will build our confidence and our horses confidence in a beautiful ranch setting. We will work on our horsemanship skills\, and body control\, while riding trail\, and big fields\, river crossings and cows. We start the day with ground work to build the focus and connection with our horses\, moving into the saddle for a warm up ride to the river- while working on softness\, and body control- then continue the day with trail obstacles- and manners- rating speed- separating from the herd- to ride an individual ride while in a group setting- then finish with some practical ranch work with cows- sorting and moving and riding with the herd.\n\nFull day- starts at 9am\, bring a bag lunch\, and be ready to have a wonderful experience! \nAll day fee is $225.00 \nSpace is limited!- please email me to hold your space. swirgler@sbcglobal.net \n  \n\n                \n                        \n                            Request Workshop Atttendance\n                            After submitting this form\, you will be contacted by Susan Wirgler to confirm your spot and collect payment. \n                        \n                        NameThis field is for validation purposes and should be left unchanged.Name of the Event you are interested in:Please confirm the date of the clinic that you want to attend?*\n                            \n                            MM slash DD slash YYYY\n                        \n                        Name*\n                            \n                            \n                                                    \n                                                    First\n                                                \n                            \n                            \n                                                    \n                                                    Last\n                                                \n                            \n                        Email*\n                            \n                        Phone*\n          \n            \n            \n            \n            \n            \n            \n            \n            \n            \n            \n            \n            \n            \n        \n                        Δ
URL:https://www.susanwirgler.com/event/wirgler-workshop-ranchtrailcow-39/
END:VEVENT
BEGIN:VEVENT
DTSTART;TZID=America/Los_Angeles:20260725T090000
DTEND;TZID=America/Los_Angeles:20260925T150000
DTSTAMP:20260425T054641
CREATED:20260422T134837Z
LAST-MODIFIED:20260422T135225Z
UID:4928-1784970000-1790348400@www.susanwirgler.com
SUMMARY:Wirgler Workshop  "RANCH\,TRAIL\,COW"
DESCRIPTION:This is a wonderful introduction to ranch riding and cow-working. We will build our confidence and our horses confidence in a beautiful ranch setting. We will work on our horsemanship skills\, and body control\, while riding trail\, and big fields\, river crossings and cows. We start the day with ground work to build the focus and connection with our horses\, moving into the saddle for a warm up ride to the river- while working on softness\, and body control- then continue the day with trail obstacles- and manners- rating speed- separating from the herd- to ride an individual ride while in a group setting- then finish with some practical ranch work with cows- sorting and moving and riding with the herd.\n\nFull day- starts at 9am\, bring a bag lunch\, and be ready to have a wonderful experience! \nAll day fee is $225.00 \nSpace is limited!- please email me to hold your space. swirgler@sbcglobal.net \n  \n\n                \n                        \n                            Request Workshop Atttendance\n                            After submitting this form\, you will be contacted by Susan Wirgler to confirm your spot and collect payment. \n                        \n                        CommentsThis field is for validation purposes and should be left unchanged.Name of the Event you are interested in:Please confirm the date of the clinic that you want to attend?*\n                            \n                            MM slash DD slash YYYY\n                        \n                        Name*\n                            \n                            \n                                                    \n                                                    First\n                                                \n                            \n                            \n                                                    \n                                                    Last\n                                                \n                            \n                        Email*\n                            \n                        Phone*\n          \n            \n            \n            \n            \n            \n            \n            \n            \n            \n            \n            \n            \n            \n        \n                        Δ
URL:https://www.susanwirgler.com/event/wirgler-workshop-ranchtrailcow-41/
END:VEVENT
BEGIN:VEVENT
DTSTART;TZID=America/Los_Angeles:20260822T090000
DTEND;TZID=America/Los_Angeles:20260822T150000
DTSTAMP:20260425T054641
CREATED:20260422T135046Z
LAST-MODIFIED:20260422T135204Z
UID:4931-1787389200-1787410800@www.susanwirgler.com
SUMMARY:Wirgler Workshop  "RANCH\,TRAIL\,COW"
DESCRIPTION:This is a wonderful introduction to ranch riding and cow-working. We will build our confidence and our horses confidence in a beautiful ranch setting. We will work on our horsemanship skills\, and body control\, while riding trail\, and big fields\, river crossings and cows. We start the day with ground work to build the focus and connection with our horses\, moving into the saddle for a warm up ride to the river- while working on softness\, and body control- then continue the day with trail obstacles- and manners- rating speed- separating from the herd- to ride an individual ride while in a group setting- then finish with some practical ranch work with cows- sorting and moving and riding with the herd.\n\nFull day- starts at 9am\, bring a bag lunch\, and be ready to have a wonderful experience! \nAll day fee is $225.00 \nSpace is limited!- please email me to hold your space. swirgler@sbcglobal.net \n  \n\n                \n                        \n                            Request Workshop Atttendance\n                            After submitting this form\, you will be contacted by Susan Wirgler to confirm your spot and collect payment. \n                        \n                        LinkedInThis field is for validation purposes and should be left unchanged.Name of the Event you are interested in:Please confirm the date of the clinic that you want to attend?*\n                            \n                            MM slash DD slash YYYY\n                        \n                        Name*\n                            \n                            \n                                                    \n                                                    First\n                                                \n                            \n                            \n                                                    \n                                                    Last\n                                                \n                            \n                        Email*\n                            \n                        Phone*\n          \n            \n            \n            \n            \n            \n            \n            \n            \n            \n            \n            \n            \n            \n        \n                        Δ
URL:https://www.susanwirgler.com/event/wirgler-workshop-ranchtrailcow-42/
END:VEVENT
END:VCALENDAR